BEGIN:VCALENDAR
VERSION:2.0
PRODID:-//jEvents 2.0 for Joomla//EN
CALSCALE:GREGORIAN
METHOD:PUBLISH
BEGIN:VEVENT
UID:14edb12519bbffb22a85b3b8ff8e5ff4
CATEGORIES:Allmänt
SUMMARY:Julbord på Wärdshuset
LOCATION:Strandvägen 25 Tavelsjö
DESCRIPTION;ENCODING=QUOTED-PRINTABLE:\n\n\n
CONTACT:070 243 29 40  |  Email: info@tavelsjowardshus.se
X-EXTRAINFO:Jul på Wärdshuset\nHos oss är julen speciell. Vi ordnar julbord och dryck t
 ill hela familjen. Söndagar i december kan ni boka julbord för både stora o
 ch små där ni får ta del av vad julen betyder hos oss. \nKontakta oss för b
 okningsförfrågan.\nPriser, datum och tider uppdateras inom kort.\nVälkomna!
DTSTAMP:20260423T145336Z
DTSTART:20211205T110000Z
DTEND:20211205T180000Z
SEQUENCE:0
RRULE:FREQ=WEEKLY;UNTIL=20211220T000000Z;INTERVAL=1;BYDAY=SU
TRANSP:OPAQUE
END:VEVENT
END:VCALENDAR