BEGIN:VCALENDAR
VERSION:2.0
PRODID:-//jEvents 2.0 for Joomla//EN
CALSCALE:GREGORIAN
METHOD:PUBLISH
BEGIN:VEVENT
UID:99504ab76f4f900500ed2415d594b319
CATEGORIES:Allmänt
SUMMARY:Wärdshuset uteservering öppen
LOCATION:Strandvägen 25 Tavelsjö
DESCRIPTION;ENCODING=QUOTED-PRINTABLE:\n\n\n
CONTACT:070 243 29 40  |  Email: Den här e-postadressen skyddas mot spambots. Du måste tillåta JavaScript för att se den.
				document.getElementById('cloak46917c003c28651ed28118e6d2d92a1b').innerHTML = '';
				var prefix = '&#109;a' + 'i&#108;' + '&#116;o';
				var path = 'hr' + 'ef' + '=';
				var addy46917c003c28651ed28118e6d2d92a1b = '&#105;nf&#111;' + '&#64;';
				addy46917c003c28651ed28118e6d2d92a1b = addy46917c003c28651ed28118e6d2d92a1b + 't&#97;v&#101;lsj&#111;w&#97;rdsh&#117;s' + '&#46;' + 's&#101;';
				var addy_text46917c003c28651ed28118e6d2d92a1b = '&#105;nf&#111;' + '&#64;' + 't&#97;v&#101;lsj&#111;w&#97;rdsh&#117;s' + '&#46;' + 's&#101;';document.getElementById('cloak46917c003c28651ed28118e6d2d92a1b').innerHTML += ''+addy_text46917c003c28651ed28118e6d2d92a1b+'';
		
X-EXTRAINFO:Helgens erbjudande! \nVi har dammat av en gammal favorit, kallrökt Laxchees
 ecake. Välkommen in och prova en bit, eller att ta med hem!\n( uteservering
 en är öppen )\nVälkomna !
DTSTAMP:20260422T213025Z
DTSTART:20210228T110000Z
DTEND:20210228T160000Z
SEQUENCE:0
TRANSP:OPAQUE
END:VEVENT
END:VCALENDAR