BEGIN:VCALENDAR
VERSION:2.0
PRODID:-//jEvents 2.0 for Joomla//EN
CALSCALE:GREGORIAN
METHOD:PUBLISH
BEGIN:VEVENT
UID:8a18af1891d552aa394a72768c8c22fb
CATEGORIES:Allmänt
SUMMARY:Blåeld söndagsöppet
LOCATION:Strandvägen 25 Tavelsjö
DESCRIPTION;ENCODING=QUOTED-PRINTABLE:\n\n\n
CONTACT: 076-775 66 60
X-EXTRAINFO:Välkomna till blåeld i dag söndag \nöppet 12-15 ☀️
DTSTAMP:20260422T213041Z
DTSTART:20210228T120000Z
DTEND:20210228T150000Z
SEQUENCE:0
RRULE:FREQ=WEEKLY;UNTIL=20210301T000000Z;INTERVAL=1;BYDAY=SU
TRANSP:OPAQUE
END:VEVENT
END:VCALENDAR