BEGIN:VCALENDAR
VERSION:2.0
PRODID:-//jEvents 2.0 for Joomla//EN
CALSCALE:GREGORIAN
METHOD:PUBLISH
BEGIN:VEVENT
UID:ac6b0129dd3f5ec539812d34c0c7bed7
CATEGORIES:Allmänt
SUMMARY:söndagsöppet knform
LOCATION:Tavelsjövägen 14
DESCRIPTION;ENCODING=QUOTED-PRINTABLE:\n\n\n
CONTACT:Katarina 070-3083896
X-EXTRAINFO:Söndagsöppet 12-15, \nHär lite inspiration!\nStänger sedan i 2 veckor.\nVäl
 komna!
DTSTAMP:20260422T213102Z
DTSTART:20210228T120000Z
DTEND:20210228T150000Z
SEQUENCE:0
TRANSP:OPAQUE
END:VEVENT
END:VCALENDAR