BEGIN:VCALENDAR
VERSION:2.0
PRODID:-//jEvents 2.0 for Joomla//EN
CALSCALE:GREGORIAN
METHOD:PUBLISH
BEGIN:VEVENT
UID:b6ab880f9a1699a8203314c6cdd14d47
CATEGORIES:Allmänt
SUMMARY:Veckans bröd Root
LOCATION:Sundlingska gården
DESCRIPTION;ENCODING=QUOTED-PRINTABLE:\n\n\n
CONTACT: 070-309 1848
X-EXTRAINFO:Veckans bröd \nförbeställ gärna på 070-3091848 \nVi har nu introducerat en 
 "snow garden" här på Sundlingska.\nDen består av tre "pods" med var sin eld
 , sittunderlag och ljusslingor. Vi har också introducerat ett nytt kassasys
 tem som innebär att gäster kan beställa och betala utan att måsta komma in.
  \nDet har varit en utmaning att få det att funka rätt, men nu fungerar det
  bra och det går också att beställa direkt från bordet utan att behöva gå t
 ill kassan och köa. \nDet känns toppen att ta ett teknologiskt steg framåt 
 ? ha en toppenvecka\nVälkomna!
DTSTAMP:20260422T230610Z
DTSTART:20210224T090000Z
DTEND:20210224T170000Z
SEQUENCE:0
TRANSP:OPAQUE
END:VEVENT
END:VCALENDAR