BEGIN:VCALENDAR
VERSION:2.0
PRODID:-//jEvents 2.0 for Joomla//EN
CALSCALE:GREGORIAN
METHOD:PUBLISH
BEGIN:VEVENT
UID:08d10233fcede0b90a5f40707a245a7b
CATEGORIES:Allmänt
SUMMARY:Veteranbiltävling Kalldrage !
LOCATION:Tavelsjöbygden
DESCRIPTION;ENCODING=QUOTED-PRINTABLE:\n\n\n
CONTACT:se karta
X-EXTRAINFO:STRÄCKAN FÖR ÅRETS KALLDRAGE\nLördag 27 februari. Samling kl 08.30. Första 
 start kl 09.30\nVar: Starten går från Circle K, Vännäsby.\nTill starten i V
 ännäsby vill vi endast ha startande ekipage!\nÄr du nyfiken på att delta so
 m publik på detta evenemang, så hänvisar vi dig att parkera någonstans läng
 s sträckan. Vi försöker göra detta så säkert som möjligt pga rådande omstän
 digheter. Vi hoppas du respekterar detta.\nTidsschema när fordonen beräknas
  passera respektive by:\nVästra Vännfors +10\nSelet +20\nRödåsel +30\nVarmv
 attnet +40\nHjuksbäck +50\nÖsterå +1,0\nKroksjö +1,05\nTavelsjö +1,15\nDjup
 bäck +1,25\nRödåsel +1,30\nFagerlund +1,40\nJämteböle +1,55\nTväråbäck +2,0
 \nPengfors kraftverk +2,15\nOckelsjö +2,35\nTobacka +2,50\nVännäsby +2,55\n
 Överboda +3,10\nBrännland +3,20
DTSTAMP:20260422T230604Z
DTSTART:20210227T093000Z
DTEND:20210227T150000Z
SEQUENCE:0
TRANSP:OPAQUE
END:VEVENT
END:VCALENDAR