BEGIN:VCALENDAR
VERSION:2.0
PRODID:-//jEvents 2.0 for Joomla//EN
CALSCALE:GREGORIAN
METHOD:PUBLISH
BEGIN:VEVENT
UID:0d89961be54a64bf0e0c49f281665ee4
CATEGORIES:Allmänt
SUMMARY:Åsas Februarimiddag!
LOCATION:Rödåsel 99
DESCRIPTION;ENCODING=QUOTED-PRINTABLE:\n\n\n
CONTACT:Åsa 070-6312052 sms & telefonsamtal. Den här e-postadressen skyddas mot spambots. Du måste tillåta JavaScript för att se den.
				document.getElementById('cloak74e5755ac480200a3a2738f70cb0b8ea').innerHTML = '';
				var prefix = '&#109;a' + 'i&#108;' + '&#116;o';
				var path = 'hr' + 'ef' + '=';
				var addy74e5755ac480200a3a2738f70cb0b8ea = '&#97;s&#97;sk&#111;k' + '&#64;';
				addy74e5755ac480200a3a2738f70cb0b8ea = addy74e5755ac480200a3a2738f70cb0b8ea + 'gm&#97;&#105;l' + '&#46;' + 'c&#111;m';
				var addy_text74e5755ac480200a3a2738f70cb0b8ea = '&#97;s&#97;sk&#111;k' + '&#64;' + 'gm&#97;&#105;l' + '&#46;' + 'c&#111;m';document.getElementById('cloak74e5755ac480200a3a2738f70cb0b8ea').innerHTML += ''+addy_text74e5755ac480200a3a2738f70cb0b8ea+'';
		 
X-EXTRAINFO:Åsas kök erbjuder en 3-rätters Februarimiddag som take-away med enkla instr
 uktioner att hämta här hos oss i Rödåsel 99\nKl 15-17\nFredag 26/2\nLördag 
 27/2\nVi önskar er beställning senast onsdag 24/2.\nÄr mani riskgrupp går d
 et fint att ringa & boka en tid så kommer vi ut med er beställning?\nFörrät
 t:\nRullad på röktlax, färskost, pepparrot på örtmarinerad sallad & picklad
  rödlök\nVarmrätt:\nFylld fläskfilé med bacon, soltorkade tomater, västerbo
 ttensost & vitt vin.\n-Potatis- rotsaksgratäng\n-Dagens februarisallad \n-D
 agens nybakta bröd med vispat smör \n- Chiliaioli\nDessert:\nSkogsbärs pann
 acotta med syltade bär, vit choklad & mandelcrunch \nPris 300:-/ port\nHopp
 as vi ses!?\nVälkommen Åsa & Peter
DTSTAMP:20260422T213041Z
DTSTART:20210222T080000Z
DTEND:20210222T170000Z
SEQUENCE:0
TRANSP:OPAQUE
END:VEVENT
END:VCALENDAR