BEGIN:VCALENDAR
VERSION:2.0
PRODID:-//jEvents 2.0 for Joomla//EN
CALSCALE:GREGORIAN
METHOD:PUBLISH
BEGIN:VEVENT
UID:c06c637a8e2bb024729ba545229f3316
CATEGORIES:Allmänt
SUMMARY:knform lördagsöppet
LOCATION:Näset 213 ( gamla matboa )
DESCRIPTION;ENCODING=QUOTED-PRINTABLE:\n\n\n
CONTACT:Katarina 070-3083896
X-EXTRAINFO:Håller öppet i morgon Lördag 10-15.\nDu är så Välkommen!
DTSTAMP:20260422T213041Z
DTSTART:20210213T100000Z
DTEND:20210213T150000Z
SEQUENCE:0
TRANSP:OPAQUE
END:VEVENT
END:VCALENDAR