BEGIN:VCALENDAR
VERSION:2.0
PRODID:-//jEvents 2.0 for Joomla//EN
CALSCALE:GREGORIAN
METHOD:PUBLISH
BEGIN:VEVENT
UID:eb7823febb0b57db2d0ac11e3f98c0b0
CATEGORIES:Allmänt
SUMMARY:Bruna bönor & Semlor !
LOCATION:Strandvägen 25 Tavelsjö
DESCRIPTION;ENCODING=QUOTED-PRINTABLE:\n\n\n
CONTACT:070 243 29 40  |  Email: Den här e-postadressen skyddas mot spambots. Du måste tillåta JavaScript för att se den.
				document.getElementById('cloakddf80d3b9772c8de29e9ea1b7d493ed6').innerHTML = '';
				var prefix = '&#109;a' + 'i&#108;' + '&#116;o';
				var path = 'hr' + 'ef' + '=';
				var addyddf80d3b9772c8de29e9ea1b7d493ed6 = '&#105;nf&#111;' + '&#64;';
				addyddf80d3b9772c8de29e9ea1b7d493ed6 = addyddf80d3b9772c8de29e9ea1b7d493ed6 + 't&#97;v&#101;lsj&#111;w&#97;rdsh&#117;s' + '&#46;' + 's&#101;';
				var addy_textddf80d3b9772c8de29e9ea1b7d493ed6 = '&#105;nf&#111;' + '&#64;' + 't&#97;v&#101;lsj&#111;w&#97;rdsh&#117;s' + '&#46;' + 's&#101;';document.getElementById('cloakddf80d3b9772c8de29e9ea1b7d493ed6').innerHTML += ''+addy_textddf80d3b9772c8de29e9ea1b7d493ed6+'';
		
X-EXTRAINFO:I dag har vi  klassiska bruna bönor med fläsk. \nWärdshuset håller öppet kl
 ockan 11-15, varmt välkomna!\nÄr du ute efter semlor?\n Våra semlor kommer 
 från Spölands tårtor och bakverk och kan hämtas på Wärdshuset  till fettisd
 ag. (Beställ senast lördag)\nBeställ här\nDen här e-postadressen skyddas mo
 t spambots. Du måste tillåta JavaScript för att se den.
				document.getEle
 mentById('cloak798d82de43a635f98d6e742c27333cba').innerHTML = '';
				var p
 refix = '&#109;a' + 'i&#108;' + '&#116;o';
				var path = 'hr' + 'ef' + '='
 ;
				var addy798d82de43a635f98d6e742c27333cba = 'Inf&#111;' + '&#64;';
			
 	addy798d82de43a635f98d6e742c27333cba = addy798d82de43a635f98d6e742c27333cb
 a + 't&#97;v&#101;lsj&#111;w&#97;rdsh&#117;s' + '&#46;' + 's&#101;';
				va
 r addy_text798d82de43a635f98d6e742c27333cba = 'Inf&#111;' + '&#64;' + 't&#9
 7;v&#101;lsj&#111;w&#97;rdsh&#117;s' + '&#46;' + 's&#101;';document.getElem
 entById('cloak798d82de43a635f98d6e742c27333cba').innerHTML += ''+addy_text7
 98d82de43a635f98d6e742c27333cba+'';
		\n0702432940
DTSTAMP:20260422T213102Z
DTSTART:20210216T110000Z
DTEND:20210216T150000Z
SEQUENCE:0
TRANSP:OPAQUE
END:VEVENT
END:VCALENDAR