BEGIN:VCALENDAR
VERSION:2.0
PRODID:-//jEvents 2.0 for Joomla//EN
CALSCALE:GREGORIAN
METHOD:PUBLISH
BEGIN:VEVENT
UID:73e3f685382c7a6cd0fe3f5dafcffda6
CATEGORIES:Allmänt
SUMMARY:Veckans bröd Root
LOCATION:Sundlingska gården
DESCRIPTION;ENCODING=QUOTED-PRINTABLE:\n\n\n
CONTACT: 070-309 1848
X-EXTRAINFO:Veckans bröd ? hör gärna av er för att förboka: \n070-3091848 | Den här e-p
 ostadressen skyddas mot spambots. Du måste tillåta JavaScript för att se de
 n.
				document.getElementById('cloak46f30db0248905c0eb9b8ca1ab06453d').inn
 erHTML = '';
				var prefix = '&#109;a' + 'i&#108;' + '&#116;o';
				var pa
 th = 'hr' + 'ef' + '=';
				var addy46f30db0248905c0eb9b8ca1ab06453d = 'h&#
 101;ll&#111;' + '&#64;';
				addy46f30db0248905c0eb9b8ca1ab06453d = addy46f
 30db0248905c0eb9b8ca1ab06453d + 'w&#101;&#97;r&#101;r&#111;&#111;t' + '&#46
 ;' + 's&#101;';
				var addy_text46f30db0248905c0eb9b8ca1ab06453d = 'h&#101
 ;ll&#111;' + '&#64;' + 'w&#101;&#97;r&#101;r&#111;&#111;t' + '&#46;' + 's&#
 101;';document.getElementById('cloak46f30db0248905c0eb9b8ca1ab06453d').inne
 rHTML += ''+addy_text46f30db0248905c0eb9b8ca1ab06453d+'';
		
DTSTAMP:20260422T213014Z
DTSTART:20210210T090000Z
DTEND:20210210T170000Z
SEQUENCE:0
TRANSP:OPAQUE
END:VEVENT
END:VCALENDAR