BEGIN:VCALENDAR
VERSION:2.0
PRODID:-//jEvents 2.0 for Joomla//EN
CALSCALE:GREGORIAN
METHOD:PUBLISH
BEGIN:VEVENT
UID:96a4c7cba687923bd97cd30fc94bf02c
CATEGORIES:Allmänt
SUMMARY:Marschallpromenad i Kroksjö
LOCATION:Kroksjö 32
DESCRIPTION;ENCODING=QUOTED-PRINTABLE:\n\n\n
CONTACT:Elin 070-650 61 63
X-EXTRAINFO:VI får hjälpas åt att hålla avstånd och tänk på att vara hemma vid minsta s
 ymtom. Allting kommer att vara serverat utomhus uppdelat på olika bord och 
 det kommer finnas bänkar ute för att kunna sitta på
DTSTAMP:20260422T215014Z
DTSTART:20210216T180000Z
DTEND:20210216T200000Z
SEQUENCE:0
TRANSP:OPAQUE
END:VEVENT
END:VCALENDAR