BEGIN:VCALENDAR
VERSION:2.0
PRODID:-//jEvents 2.0 for Joomla//EN
CALSCALE:GREGORIAN
METHOD:PUBLISH
BEGIN:VEVENT
UID:b6eaa337d530adaaf0acaddb6f614d30
CATEGORIES:Allmänt
SUMMARY:Boka Häst & släde
LOCATION:Strandvägen 25 Tavelsjö
DESCRIPTION;ENCODING=QUOTED-PRINTABLE:\n\n\n
CONTACT:070 243 29 40  |  Email: Den här e-postadressen skyddas mot spambots. Du måste tillåta JavaScript för att se den.
				document.getElementById('cloak35ddaec7da165d1286545be33d9154a3').innerHTML = '';
				var prefix = '&#109;a' + 'i&#108;' + '&#116;o';
				var path = 'hr' + 'ef' + '=';
				var addy35ddaec7da165d1286545be33d9154a3 = '&#105;nf&#111;' + '&#64;';
				addy35ddaec7da165d1286545be33d9154a3 = addy35ddaec7da165d1286545be33d9154a3 + 't&#97;v&#101;lsj&#111;w&#97;rdsh&#117;s' + '&#46;' + 's&#101;';
				var addy_text35ddaec7da165d1286545be33d9154a3 = '&#105;nf&#111;' + '&#64;' + 't&#97;v&#101;lsj&#111;w&#97;rdsh&#117;s' + '&#46;' + 's&#101;';document.getElementById('cloak35ddaec7da165d1286545be33d9154a3').innerHTML += ''+addy_text35ddaec7da165d1286545be33d9154a3+'';
		
X-EXTRAINFO:Under helgen vecka 6 kommer Camilla från Långvikens Gård börja köra häst me
 d släde med start på Wärdshuset under jämna veckor. \nKombinera din slädtur
  med Afternoon Tea eller en middag på Tavelsjö Wärdshus för en komplett upp
 levelse.\nPriser för dagstur           Priser kvällstur\n250:-, vuxen      
               395:-, vuxen\n150:-, barn 3-10 år         295:-, barn 3-10 år
 \n0:-, barn under 3 år        0:-, barn under 3 år\n195:-, Afternoon tea på
  Wärdshuset\nMiddag beställs från vår A la carte meny.\nBoka via mail eller
  telefon\nAll bokning sker via oss på Wärdshuset via mail eller telefon. \n
 Vill du ha en slädtur med lite extra gott kan du kombinera en slädtur med a
 vslutande afternoon tea inne i värmen hos oss.
DTSTAMP:20260422T230502Z
DTSTART:20210209T110000Z
DTEND:20210209T170000Z
SEQUENCE:0
TRANSP:OPAQUE
END:VEVENT
END:VCALENDAR