BEGIN:VCALENDAR
VERSION:2.0
PRODID:-//jEvents 2.0 for Joomla//EN
CALSCALE:GREGORIAN
METHOD:PUBLISH
BEGIN:VEVENT
UID:ca81bbb024f1da25222e388de715247a
CATEGORIES:Allmänt
SUMMARY:Blåeld helgöppet
LOCATION:Strandvägen 25 Tavelsjö
DESCRIPTION;ENCODING=QUOTED-PRINTABLE:\n\n\n
X-EXTRAINFO:Rost i vinterskrud och solen tittar fram ?Vi har börjat förbereda våren på 
 blåeld och längtar verkligen till den börjar ta fart ?\nÖppet lördag & sönd
 ag 12-15  \nVälkomna #rost #presenter #blaeld
DTSTAMP:20260422T213025Z
DTSTART:20210214T120000Z
DTEND:20210214T150000Z
SEQUENCE:0
TRANSP:OPAQUE
END:VEVENT
END:VCALENDAR