BEGIN:VCALENDAR
VERSION:2.0
PRODID:-//jEvents 2.0 for Joomla//EN
CALSCALE:GREGORIAN
METHOD:PUBLISH
BEGIN:VEVENT
UID:25a8e6e90c7bc557fef193dae050678d
CATEGORIES:Allmänt
SUMMARY:Wärdshuset alla hjärtans middag
LOCATION:Strandvägen 25 Tavelsjö
DESCRIPTION;ENCODING=QUOTED-PRINTABLE:\n\n\n
CONTACT:070 243 29 40  |  Email: info@tavelsjowardshus.se
X-EXTRAINFO:Fira alla hjärtans dag på bästa sätt i en underbar miljö på Tavelsjö Wärdsh
 us. I närheten av Wärdshuset finns många fina områden där man kan promenera
  eller låna en spark och åka en sväng. Vi fixar sedan maten och har en spec
 iell meny för just alla hjärtans dag.\nÄter ni hellre hemma? Då ordnar vi e
 n alla hjärtanspåse till er. I den förbereder vi maten så långt det går och
  låter dig göra de sista avslutande stegen hemma i köket, instruktioner med
 följer. \nMeny:\nHalstrad pilgrimsmussla med champagneskum\nUgnsbakad rödin
 g med rökt laxmousse, sötsyrlig gurka, blomkålscreme och hummersås\nHallonp
 annacotta med chokladkringla\nPris 495:- / person\nBoka ditt bord eller en 
 påse via mail eller telefon.\ninfo@tavelsjowardshus.se\n0702432940
DTSTAMP:20260422T230604Z
DTSTART:20210209T080000Z
DTEND:20210209T170000Z
SEQUENCE:0
RRULE:FREQ=DAILY;UNTIL=20210213T000000Z;INTERVAL=1
TRANSP:OPAQUE
END:VEVENT
END:VCALENDAR