BEGIN:VCALENDAR
VERSION:2.0
PRODID:-//jEvents 2.0 for Joomla//EN
CALSCALE:GREGORIAN
METHOD:PUBLISH
BEGIN:VEVENT
UID:501060af44fd2f7b8570da28c84ec6d0
CATEGORIES:Allmänt
SUMMARY:Åsas kök erbjuder en 3- rätters middag
LOCATION:Rödåsel 99
DESCRIPTION;ENCODING=QUOTED-PRINTABLE:\n\n\n
CONTACT:Åsa 070-6312052 sms & telefonsamtal.
X-EXTRAINFO:Hej Alla ❤️-dag!??‍♀️\nÅsas kök erbjuder en 3- rätters middag  som take -aw
 ay att hämta här hos oss i Rödåsel 99 kl 15-17❤️\nFredag 12/2\nLördag 13/2 
 samt\nSöndag 14/2\nVi önskar er beställning senast onsdagar den 10/2\nBoka 
 på telefon 070-6320521 sms & röstsamtal ? eller på mail Den här e-postadres
 sen skyddas mot spambots. Du måste tillåta JavaScript för att se den.
				d
 ocument.getElementById('cloakc6affd183528509738a43e79e88e8525').innerHTML =
  '';
				var prefix = '&#109;a' + 'i&#108;' + '&#116;o';
				var path = 'hr
 ' + 'ef' + '=';
				var addyc6affd183528509738a43e79e88e8525 = '&#97;s&#97;
 sk&#111;k' + '&#64;';
				addyc6affd183528509738a43e79e88e8525 = addyc6affd
 183528509738a43e79e88e8525 + 'gm&#97;&#105;l' + '&#46;' + 'c&#111;m';
				v
 ar addy_textc6affd183528509738a43e79e88e8525 = '&#97;s&#97;sk&#111;k' + '&#
 64;' + 'gm&#97;&#105;l' + '&#46;' + 'c&#111;m';document.getElementById('clo
 akc6affd183528509738a43e79e88e8525').innerHTML += ''+addy_textc6affd1835285
 09738a43e79e88e8525+'';
		 \nFörrätt:\nCheesecake med röktlax, räkor,peppar
 rot på kavringsbotten, örtmarinerad sallad & picklad rödlök\nVarmrätt:\nLån
 gbakad entrecote med sparris, shalottenlök, pepparsås & dragonsmör\n-Potati
 s-rotsaksgratäng \n-Dagens sallad\n-Dagens hembakta bröd med vispat västerb
 ottensostsmör\nDessert:\nChokladkaka med kolatopping, rostad mandel, syltad
 e björnbär & vispad grädde\nPris 300:-/ port inkl moms \nHoppas vi ses!❤️\n
 Åsa & Peter
DTSTAMP:20260422T213015Z
DTSTART:20210208T080000Z
DTEND:20210208T170000Z
SEQUENCE:0
TRANSP:OPAQUE
END:VEVENT
END:VCALENDAR