BEGIN:VCALENDAR
VERSION:2.0
PRODID:-//jEvents 2.0 for Joomla//EN
CALSCALE:GREGORIAN
METHOD:PUBLISH
BEGIN:VEVENT
UID:b51f8b3f933b0391557aac26eaa141b8
CATEGORIES:Allmänt
SUMMARY:Fullbokat; Åsas kök erbjuder en 3- rätters middag
LOCATION:Rödåsel 99
DESCRIPTION;ENCODING=QUOTED-PRINTABLE:\n\n\n
CONTACT:Åsa 070-6312052 sms & telefonsamtal.
X-EXTRAINFO:Hej Alla ❤️-dag!??‍♀️\nÅsas kök erbjuder en 3- rätters middag  som take -aw
 ay att hämta här hos oss i Rödåsel 99 kl 15-17❤️\nFredag 12/2\nLördag 13/2 
 samt\nSöndag 14/2\nVi önskar er beställning senast onsdagar den 10/2\nBoka 
 på telefon 070-6320521 sms & röstsamtal ? eller på mail Den här e-postadres
 sen skyddas mot spambots. Du måste tillåta JavaScript för att se den.
				d
 ocument.getElementById('cloak3a70a5a0c6250be1d1864fdd8966e47b').innerHTML =
  '';
				var prefix = '&#109;a' + 'i&#108;' + '&#116;o';
				var path = 'hr
 ' + 'ef' + '=';
				var addy3a70a5a0c6250be1d1864fdd8966e47b = '&#97;s&#97;
 sk&#111;k' + '&#64;';
				addy3a70a5a0c6250be1d1864fdd8966e47b = addy3a70a5
 a0c6250be1d1864fdd8966e47b + 'gm&#97;&#105;l' + '&#46;' + 'c&#111;m';
				v
 ar addy_text3a70a5a0c6250be1d1864fdd8966e47b = '&#97;s&#97;sk&#111;k' + '&#
 64;' + 'gm&#97;&#105;l' + '&#46;' + 'c&#111;m';document.getElementById('clo
 ak3a70a5a0c6250be1d1864fdd8966e47b').innerHTML += ''+addy_text3a70a5a0c6250
 be1d1864fdd8966e47b+'';
		 \nFörrätt:\nCheesecake med röktlax, räkor,peppar
 rot på kavringsbotten, örtmarinerad sallad & picklad rödlök\nVarmrätt:\nLån
 gbakad entrecote med sparris, shalottenlök, pepparsås & dragonsmör\n-Potati
 s-rotsaksgratäng \n-Dagens sallad\n-Dagens hembakta bröd med vispat västerb
 ottensostsmör\nDessert:\nChokladkaka med kolatopping, rostad mandel, syltad
 e björnbär & vispad grädde\nPris 300:-/ port inkl moms \nHoppas vi ses!❤️\n
 Åsa & Peter
DTSTAMP:20260422T230457Z
DTSTART:20210210T080000Z
DTEND:20210210T170000Z
SEQUENCE:0
TRANSP:OPAQUE
END:VEVENT
END:VCALENDAR