BEGIN:VCALENDAR
VERSION:2.0
PRODID:-//jEvents 2.0 for Joomla//EN
CALSCALE:GREGORIAN
METHOD:PUBLISH
BEGIN:VEVENT
UID:25b876b44fbccbfec43d94992006a5b2
CATEGORIES:Allmänt
SUMMARY:Nordenssons gårdsbutik
LOCATION:Kroksjö 32
DESCRIPTION;ENCODING=QUOTED-PRINTABLE:\n\n\n
CONTACT:Elin 070-650 61 63
X-EXTRAINFO:Varmt välkommen till gårdsbutiken! \nNu öppnar butiken för denna säsong. \n
 Hoppas vi ses!\nVälkomna
DTSTAMP:20260422T230611Z
DTSTART:20210206T120000Z
DTEND:20210206T160000Z
SEQUENCE:0
TRANSP:OPAQUE
END:VEVENT
END:VCALENDAR