BEGIN:VCALENDAR
VERSION:2.0
PRODID:-//jEvents 2.0 for Joomla//EN
CALSCALE:GREGORIAN
METHOD:PUBLISH
BEGIN:VEVENT
UID:e5c35c9394c3c7238a0e4fd85f3cd93c
CATEGORIES:Allmänt
SUMMARY:Wärdshusets utflyktspåse
LOCATION:Strandvägen 25 Tavelsjö
DESCRIPTION;ENCODING=QUOTED-PRINTABLE:\n\n\n
CONTACT:070 243 29 40  |  Email: info@tavelsjowardshus.se
X-EXTRAINFO:Hej allesammans! \nLite nyheter på Wärdshuset från och med fredag är vår gr
 illpåse & utflyktspåse!\nVintern är enligt oss en fantastisk årstid att var
 a utomhus, och att grilla eller ha med en matsäck gör det bara bättre.\nGri
 llpåsen innehåller två stycken hamburgare med bröd, dressing, picklad rödlö
 k och sallad. Pris 125:-\nUtflyktspåsen innehåller ostmacka, chokladboll, a
 pelsin och varm choklad eller kaffe pris 95:-\nBokning för påsarna öppnar p
 å fredag klockan 9 och beställs via telefon på nummer 070-243 29 40. \nVi h
 örs!
DTSTAMP:20260422T213102Z
DTSTART:20210122T110000Z
DTEND:20210122T180000Z
SEQUENCE:0
RRULE:FREQ=WEEKLY;UNTIL=20210227T000000Z;INTERVAL=1;BYDAY=FR
TRANSP:OPAQUE
END:VEVENT
END:VCALENDAR