BEGIN:VCALENDAR
VERSION:2.0
PRODID:-//jEvents 2.0 for Joomla//EN
CALSCALE:GREGORIAN
METHOD:PUBLISH
BEGIN:VEVENT
UID:e6ef76df01b9996f179b27ee4056309a
CATEGORIES:Allmänt
SUMMARY:Januarinytt  Wärdshuset
LOCATION:Strandvägen 25 Tavelsjö
DESCRIPTION;ENCODING=QUOTED-PRINTABLE:\n\n\n
CONTACT:070 243 29 40  |  Email: Den här e-postadressen skyddas mot spambots. Du måste tillåta JavaScript för att se den.
				document.getElementById('cloakb23d897b5a1450e7e1fc8b886d37699c').innerHTML = '';
				var prefix = '&#109;a' + 'i&#108;' + '&#116;o';
				var path = 'hr' + 'ef' + '=';
				var addyb23d897b5a1450e7e1fc8b886d37699c = '&#105;nf&#111;' + '&#64;';
				addyb23d897b5a1450e7e1fc8b886d37699c = addyb23d897b5a1450e7e1fc8b886d37699c + 't&#97;v&#101;lsj&#111;w&#97;rdsh&#117;s' + '&#46;' + 's&#101;';
				var addy_textb23d897b5a1450e7e1fc8b886d37699c = '&#105;nf&#111;' + '&#64;' + 't&#97;v&#101;lsj&#111;w&#97;rdsh&#117;s' + '&#46;' + 's&#101;';document.getElementById('cloakb23d897b5a1450e7e1fc8b886d37699c').innerHTML += ''+addy_textb23d897b5a1450e7e1fc8b886d37699c+'';
		
X-EXTRAINFO:Nytt år nya möjligheter!\nIsen ligger tjock på sjön och isbanan öppnar. \nV
 ädret är alldeles lagom inbjudande. \nVi har sparkare som ni kan låna för e
 n tur på isbanan.\nSka du ut på isbanan i helgen? Missa inte att det även f
 inns parkering både vid Wärdshuset och ställplatsen mellan oss och Ica. Och
  blir man lite kylig eller hungern kryper på har vi alltid varm dryck och m
 at inne hos oss.Varmt välkommen in på lunch, fika eller bara en värmande ko
 pp kaffe på Wärdshuset! \nTa det lugnt i vintervärlden så ses vi i helgen! 
DTSTAMP:20260422T213040Z
DTSTART:20210110T110000Z
DTEND:20210110T180000Z
SEQUENCE:0
TRANSP:OPAQUE
END:VEVENT
END:VCALENDAR