BEGIN:VCALENDAR
VERSION:2.0
PRODID:-//jEvents 2.0 for Joomla//EN
CALSCALE:GREGORIAN
METHOD:PUBLISH
BEGIN:VEVENT
UID:4577dd38bac86a8a3151deec555c0e2d
CATEGORIES:Allmänt
SUMMARY:Skridskouthyrningen öppen
LOCATION:Sundlingska gården
DESCRIPTION;ENCODING=QUOTED-PRINTABLE:\n\n\n
CONTACT:www.weareroot.se/boka eller ring på 070-3081848. 
X-EXTRAINFO:Hej alla! Som många säkert vet nu så har vi på Root stängt för tillfället p
 ga att en av våra kollegor har Covid-19. Skridskouthyrningen kommer dock at
 t vara öppen för upphämtning mellan 10-13 imorgon söndag för er som vill hy
 ra, bemannad av TAIK i logen på Sundlingska Gården. Bokar gör ni lättast on
 line på www.weareroot.se/boka eller ring på 070-3081848. \nDet finns även s
 parkare som ni kan låna.\nVi hoppas att öppna och ses snart igen, från oss 
 alla på Root ?
DTSTAMP:20260422T165913Z
DTSTART:20210110T100000Z
DTEND:20210110T130000Z
SEQUENCE:0
TRANSP:OPAQUE
END:VEVENT
END:VCALENDAR