BEGIN:VCALENDAR
VERSION:2.0
PRODID:-//jEvents 2.0 for Joomla//EN
CALSCALE:GREGORIAN
METHOD:PUBLISH
BEGIN:VEVENT
UID:63c1138a6c0f9ccf03e28f97c4b4bea9
CATEGORIES:Allmänt
SUMMARY:Januarinytt  Wärdshuset
LOCATION:Strandvägen 25 Tavelsjö
DESCRIPTION;ENCODING=QUOTED-PRINTABLE:\n\n\n
CONTACT:070 243 29 40  |  Email: Den här e-postadressen skyddas mot spambots. Du måste tillåta JavaScript för att se den.
				document.getElementById('cloak42bb83fc1fac63e1246928ca6b200536').innerHTML = '';
				var prefix = '&#109;a' + 'i&#108;' + '&#116;o';
				var path = 'hr' + 'ef' + '=';
				var addy42bb83fc1fac63e1246928ca6b200536 = '&#105;nf&#111;' + '&#64;';
				addy42bb83fc1fac63e1246928ca6b200536 = addy42bb83fc1fac63e1246928ca6b200536 + 't&#97;v&#101;lsj&#111;w&#97;rdsh&#117;s' + '&#46;' + 's&#101;';
				var addy_text42bb83fc1fac63e1246928ca6b200536 = '&#105;nf&#111;' + '&#64;' + 't&#97;v&#101;lsj&#111;w&#97;rdsh&#117;s' + '&#46;' + 's&#101;';document.getElementById('cloak42bb83fc1fac63e1246928ca6b200536').innerHTML += ''+addy_text42bb83fc1fac63e1246928ca6b200536+'';
		
X-EXTRAINFO:Nytt år nya möjligheter!\nIsen ligger tjock på sjön och isbanan öppnar. \nV
 ädret är alldeles lagom inbjudande. \nVi har sparkare som ni kan låna för e
 n tur på isbanan.\nImorgon från klockan 11 är ni varmt välkomna in på lunch
 , fika eller bara en värmande kopp kaffe på Wärdshuset! \nTa det lugnt i vi
 ntervärlden så ses vi i helgen! ❄️\n
DTSTAMP:20260422T213015Z
DTSTART:20210109T110000Z
DTEND:20210109T180000Z
SEQUENCE:0
TRANSP:OPAQUE
END:VEVENT
END:VCALENDAR