BEGIN:VCALENDAR
VERSION:2.0
PRODID:-//jEvents 2.0 for Joomla//EN
CALSCALE:GREGORIAN
METHOD:PUBLISH
BEGIN:VEVENT
UID:7cd6fb3e5b939f4c2d070b6127fb13bf
CATEGORIES:Allmänt
SUMMARY:Matboa helgöppet
LOCATION:Tavelsjövägen 84
DESCRIPTION;ENCODING=QUOTED-PRINTABLE:\n\n\n
CONTACT:http://www.matboa.se/ 090-600 30
X-EXTRAINFO:Trettondagen har vi öppet mellan 12-20. \nI övrigt gäller våra ordinarie öp
 pettider.\nVälkommen in till oss på Matboa! ??
DTSTAMP:20260422T213025Z
DTSTART:20210106T120000Z
DTEND:20210106T200000Z
SEQUENCE:0
TRANSP:OPAQUE
END:VEVENT
END:VCALENDAR