BEGIN:VCALENDAR
VERSION:2.0
PRODID:-//jEvents 2.0 for Joomla//EN
CALSCALE:GREGORIAN
METHOD:PUBLISH
BEGIN:VEVENT
UID:41fdea1de3a858dcf1f1a27775166c25
CATEGORIES:Allmänt
SUMMARY:Extraöppet på Blåeld
LOCATION:Strandvägen 25 Tavelsjö
DESCRIPTION;ENCODING=QUOTED-PRINTABLE:\n\n\n
CONTACT:076-775 66 60
X-EXTRAINFO:Vi har fått många förfrågningar och önskemål om vi ska ha öppet någon dag i
 nnan nyår .\nSå klart vi gör allt för våra kära kunder  ❤️\nVi finns på pla
 ts söndag den 27 dec mellan 12-15 \nVarmt välkomna ❤️
DTSTAMP:20260422T152454Z
DTSTART:20201227T120000Z
DTEND:20201227T150000Z
SEQUENCE:0
TRANSP:OPAQUE
END:VEVENT
END:VCALENDAR