BEGIN:VCALENDAR
VERSION:2.0
PRODID:-//jEvents 2.0 for Joomla//EN
CALSCALE:GREGORIAN
METHOD:PUBLISH
BEGIN:VEVENT
UID:45601f3a66079ac3ff94fe20f95c7c73
CATEGORIES:Allmänt
SUMMARY:Blåeld stängt
LOCATION:Strandvägen 25 Tavelsjö
DESCRIPTION;ENCODING=QUOTED-PRINTABLE:\n\n\n
CONTACT: 070-309 1848
X-EXTRAINFO:Blåeld stänger för jul och ledighet till den 23 januari\nVälkomna i slutet 
 av Januari.
DTSTAMP:20260422T214734Z
DTSTART:20210102T120000Z
DTEND:20210102T150000Z
SEQUENCE:0
RRULE:FREQ=WEEKLY;UNTIL=20210117T000000Z;INTERVAL=1;BYDAY=SA
TRANSP:OPAQUE
END:VEVENT
BEGIN:VEVENT
UID:45601f3a66079ac3ff94fe20f95c7c73
CATEGORIES:Allmänt
SUMMARY:Blåeld packar upp nyheter
LOCATION:Strandvägen 25 Tavelsjö
DESCRIPTION;ENCODING=QUOTED-PRINTABLE:\n\n\n
CONTACT:070-309 1848
X-EXTRAINFO:Vi är i butiken och packar upp nyheter mellan 12-15 Wärdshuset har lånespar
 kare om ni vill ta en tur på isbanan.Välkomna !
DTSTAMP:20260422T214734Z
DTSTART:20210109T120000Z
DTEND:20210109T150000Z
RECURRENCE-ID:20210109T120000Z
SEQUENCE:0
TRANSP:OPAQUE
END:VEVENT
END:VCALENDAR