BEGIN:VCALENDAR
VERSION:2.0
PRODID:-//jEvents 2.0 for Joomla//EN
CALSCALE:GREGORIAN
METHOD:PUBLISH
BEGIN:VEVENT
UID:8fea10f99979dbcbdd40f0385a1032ac
CATEGORIES:Allmänt
SUMMARY:Blåeld stängt
LOCATION:Strandvägen 25 Tavelsjö
DESCRIPTION;ENCODING=QUOTED-PRINTABLE:\n\n\n
CONTACT: 070-309 1848
X-EXTRAINFO:Blåeld stänger för jul och ledighet till den 23 januari\nVälkomna i slutet 
 av Januari.
DTSTAMP:20260422T212810Z
DTSTART:20210103T120000Z
DTEND:20210103T150000Z
SEQUENCE:0
RRULE:FREQ=WEEKLY;UNTIL=20210118T000000Z;INTERVAL=1;BYDAY=SU
TRANSP:OPAQUE
END:VEVENT
END:VCALENDAR