BEGIN:VCALENDAR
VERSION:2.0
PRODID:-//jEvents 2.0 for Joomla//EN
CALSCALE:GREGORIAN
METHOD:PUBLISH
BEGIN:VEVENT
UID:0350f93aefff909d9f820df466127f06
CATEGORIES:Allmänt
SUMMARY:Wärdshuset helgöppet
LOCATION:Strandvägen 25 Tavelsjö
DESCRIPTION;ENCODING=QUOTED-PRINTABLE:\n\n\n
CONTACT:070 243 29 40  |  Email: Den här e-postadressen skyddas mot spambots. Du måste tillåta JavaScript för att se den.
				document.getElementById('cloak172501eb06bbf491e6a797a573e42aa6').innerHTML = '';
				var prefix = '&#109;a' + 'i&#108;' + '&#116;o';
				var path = 'hr' + 'ef' + '=';
				var addy172501eb06bbf491e6a797a573e42aa6 = '&#105;nf&#111;' + '&#64;';
				addy172501eb06bbf491e6a797a573e42aa6 = addy172501eb06bbf491e6a797a573e42aa6 + 't&#97;v&#101;lsj&#111;w&#97;rdsh&#117;s' + '&#46;' + 's&#101;';
				var addy_text172501eb06bbf491e6a797a573e42aa6 = '&#105;nf&#111;' + '&#64;' + 't&#97;v&#101;lsj&#111;w&#97;rdsh&#117;s' + '&#46;' + 's&#101;';document.getElementById('cloak172501eb06bbf491e6a797a573e42aa6').innerHTML += ''+addy_text172501eb06bbf491e6a797a573e42aa6+'';
		
X-EXTRAINFO:Mys till det lite extra med en tallrik tomtegröt i helgen, självklart med e
 n skinkmacka till!\nÄven Blåeld har öppet mellan 12-15, vi på Wärdshuset kö
 r som vanligt från 11-18.\nVi ses i helgen!
DTSTAMP:20260422T152729Z
DTSTART:20201213T110000Z
DTEND:20201213T180000Z
SEQUENCE:0
TRANSP:OPAQUE
END:VEVENT
END:VCALENDAR