BEGIN:VCALENDAR
VERSION:2.0
PRODID:-//jEvents 2.0 for Joomla//EN
CALSCALE:GREGORIAN
METHOD:PUBLISH
BEGIN:VEVENT
UID:7589f029f4e663045272aebfa0636210
CATEGORIES:Allmänt
SUMMARY:Brödbak på Root
LOCATION:Sundlingska gården
DESCRIPTION;ENCODING=QUOTED-PRINTABLE:\n\n\n
CONTACT: 070-309 1848
X-EXTRAINFO:Beställ bröd på Root\n\n\n
DTSTAMP:20260422T152717Z
DTSTART:20201209T090000Z
DTEND:20201209T170000Z
SEQUENCE:0
TRANSP:OPAQUE
END:VEVENT
END:VCALENDAR