BEGIN:VCALENDAR
VERSION:2.0
PRODID:-//jEvents 2.0 for Joomla//EN
CALSCALE:GREGORIAN
METHOD:PUBLISH
BEGIN:VEVENT
UID:578906aa4385a17c2208077f2e859e9a
CATEGORIES:Allmänt
SUMMARY:Julklappsinsamling
LOCATION:Strandvägen 25 Tavelsjö
DESCRIPTION;ENCODING=QUOTED-PRINTABLE:\n\n\n
CONTACT:070 243 29 40  |  Email: Den här e-postadressen skyddas mot spambots. Du måste tillåta JavaScript för att se den.
				document.getElementById('cloak7bfd8b9131b422fa2d1271d1f15462f6').innerHTML = '';
				var prefix = '&#109;a' + 'i&#108;' + '&#116;o';
				var path = 'hr' + 'ef' + '=';
				var addy7bfd8b9131b422fa2d1271d1f15462f6 = '&#105;nf&#111;' + '&#64;';
				addy7bfd8b9131b422fa2d1271d1f15462f6 = addy7bfd8b9131b422fa2d1271d1f15462f6 + 't&#97;v&#101;lsj&#111;w&#97;rdsh&#117;s' + '&#46;' + 's&#101;';
				var addy_text7bfd8b9131b422fa2d1271d1f15462f6 = '&#105;nf&#111;' + '&#64;' + 't&#97;v&#101;lsj&#111;w&#97;rdsh&#117;s' + '&#46;' + 's&#101;';document.getElementById('cloak7bfd8b9131b422fa2d1271d1f15462f6').innerHTML += ''+addy_text7bfd8b9131b422fa2d1271d1f15462f6+'';
		
X-EXTRAINFO:Julen är en tid med traditioner, vi bakar, vi pysslar, spelar julmusik och 
 klär granen. Men julglädje är inte självklart för alla. Därför vill vi star
 ta en ny jultradition här på Tavelsjö Wärdshus och Blå Eld. Hjälp oss med a
 tt fylla tomtens säck med klappar som står i hallen i Tavelsjö Wärdshus, al
 la som vill är välkommen att skänka en klapp.\nSå här deltar du:\nKöp en ju
 lklapp (är viktigt att det inte är begagnat), tänk på att det är något ett 
 barn kan önska, inte bara något du tror ett barn behöver. Gåvan kan exempel
 vis vara en upplevelse, Bio-kort, passar barn i flera åldrar.\nSlå in paket
 et, skriv en lapp med information, som beskriver ungefär vilken ålder klapp
 en passar och aktivitet, exempel ”God Jul till dig som är mellan 6-9 år och
  tycker om att leka utomhus Önskar Erika”. Kom förbi Tavelsjö Wärdshus och 
 lämna klappen i tomtens säck som står i vår hall.\nVad händer sedan med kla
 pparna:\nAlla klappar som ligger i säcken skänks till olika organisationer,
  exempel Kvinnojouren, Stadsmissionen, Bakfickan, Svenska Kyrkan med flera.
  Insamlingen pågår december månad fram till söndag den 20 december med utde
 lning av klapparna den 21 december\nVill du vara med och swisha en peng så 
 går det bra också, vi omvandlar pengarna till ett presentkort på COOP eller
  ICA och lämnar över dessa presentkort den 21 december till organisationer 
 som i sin tur delar ut till behövande familjer. Swish 123 580 01 98, Julkla
 pp\nLåt oss tillsammans sprida julglädje!\nErika & Simon\nTavelsjö Wärdshus
 \nAnette & Håkan\nBlå Eld
DTSTAMP:20260420T164948Z
DTSTART:20201210T110000Z
DTEND:20201210T170000Z
SEQUENCE:0
TRANSP:OPAQUE
END:VEVENT
END:VCALENDAR