BEGIN:VCALENDAR
VERSION:2.0
PRODID:-//jEvents 2.0 for Joomla//EN
CALSCALE:GREGORIAN
METHOD:PUBLISH
BEGIN:VEVENT
UID:4c23c77347c194dd61460e85424d503a
CATEGORIES:Allmänt
SUMMARY:Lördagsöppet Tant Lydias kök
LOCATION:Liden 42 Tavelsjö
DESCRIPTION;ENCODING=QUOTED-PRINTABLE:\n\n\n
CONTACT:070-355 93 25  / Marie
X-EXTRAINFO:Lydias kök öppet i dag lördag 28 november mellan kl 11-15.\nTa det lungt på
  gården då det kan vara lite halt trots att vi sandat. \nVälkommen förbi i 
 Tillitsbutiken ❤️.\nPS jag finns hemma och undrar ni över något är det bara
  att ringa 070-355 93 25 så kommer jag och hjälper till! \n/Marie
DTSTAMP:20260422T122518Z
DTSTART:20201205T110000Z
DTEND:20201205T150000Z
SEQUENCE:0
RRULE:FREQ=WEEKLY;UNTIL=20201220T000000Z;INTERVAL=1;BYDAY=SA
TRANSP:OPAQUE
END:VEVENT
END:VCALENDAR