BEGIN:VCALENDAR
VERSION:2.0
PRODID:-//jEvents 2.0 for Joomla//EN
CALSCALE:GREGORIAN
METHOD:PUBLISH
BEGIN:VEVENT
UID:bb415d2fb2f21c4ff94005fd9e7648a7
CATEGORIES:Allmänt
SUMMARY:Helgöppet Rödå Antik
LOCATION:Rödåsel 61
DESCRIPTION;ENCODING=QUOTED-PRINTABLE:\n\n\n
CONTACT:Eva  070-3626557
X-EXTRAINFO:Helgöppet på Rödå Antik \nLördag o söndag 11-16\nVälkomna !
DTSTAMP:20260422T152717Z
DTSTART:20201205T110000Z
DTEND:20201205T160000Z
SEQUENCE:0
TRANSP:OPAQUE
END:VEVENT
END:VCALENDAR