BEGIN:VCALENDAR
VERSION:2.0
PRODID:-//jEvents 2.0 for Joomla//EN
CALSCALE:GREGORIAN
METHOD:PUBLISH
BEGIN:VEVENT
UID:55935e127dd8a51152395105f98d020a
CATEGORIES:Allmänt
SUMMARY:Rootytooty-brunch
LOCATION:Sundlingska gården
DESCRIPTION;ENCODING=QUOTED-PRINTABLE:\n\n\n
CONTACT: 070-309 1848  https://bookings.designmynight.com/book
X-EXTRAINFO:Nu kan vår Rootytooty-brunch beställas varje lördag och söndag fram till ju
 l, med möjlighet för hemleverans. Brunchen varierar från helg till helg men
  inkluderar alltid nybakat surdegsbröd, färskmalet kaffe, smoothie, overnig
 ht oats samt annat smått och gott. \n200kr/person vid upphämtning eller 250
 kr/person vid leverans. \nBrunchen förbokas enklast här:\nhttps://bookings.
 designmynight.com/book... \neller hör av dig till oss på 070-3091848 eller 
 Den här e-postadressen skyddas mot spambots. Du måste tillåta JavaScript fö
 r att se den.
				document.getElementById('cloakd622e732caeab119e74fb631ced
 12a4b').innerHTML = '';
				var prefix = '&#109;a' + 'i&#108;' + '&#116;o';
 
				var path = 'hr' + 'ef' + '=';
				var addyd622e732caeab119e74fb631ced1
 2a4b = 'h&#101;ll&#111;' + '&#64;';
				addyd622e732caeab119e74fb631ced12a4
 b = addyd622e732caeab119e74fb631ced12a4b + 'w&#101;&#97;r&#101;r&#111;&#111
 ;t' + '&#46;' + 's&#101;';
				var addy_textd622e732caeab119e74fb631ced12a4
 b = 'h&#101;ll&#111;' + '&#64;' + 'w&#101;&#97;r&#101;r&#111;&#111;t' + '&#
 46;' + 's&#101;';document.getElementById('cloakd622e732caeab119e74fb631ced1
 2a4b').innerHTML += ''+addy_textd622e732caeab119e74fb631ced12a4b+'';
		
DTSTAMP:20260422T152546Z
DTSTART:20201204T090000Z
DTEND:20201204T190000Z
SEQUENCE:0
TRANSP:OPAQUE
END:VEVENT
END:VCALENDAR