BEGIN:VCALENDAR
VERSION:2.0
PRODID:-//jEvents 2.0 for Joomla//EN
CALSCALE:GREGORIAN
METHOD:PUBLISH
BEGIN:VEVENT
UID:7dc7227104f192d6b3cbdcc9277a61d8
CATEGORIES:Allmänt
SUMMARY:Boka Adventsmiddag!
LOCATION:Rödåsel 99
DESCRIPTION;ENCODING=QUOTED-PRINTABLE:\n\n\n
CONTACT:070-6320521 eller sms  ( Boka senast 3/12 )
X-EXTRAINFO:Åsas kök erbjuder en 3- rätters take-awaymiddag med enkla instruktioner att
  hämta här hos oss i Rödåsel 99\nAdventshelgen \nFre 4/12, lör 5/12 & sön 6
 /12\nHämtas kl 15-17\nVi önskar er bokning senast den 3/12 på telefon 070-6
 320521 sms & telefonsamtal?\nFörrätt:\nRäk- ceviche med lime, mango, vitlök
  chili & örtflarn\nVarmrätt:\nFylld fläskfilé med bacon, västerbottensost, 
 katrinplommon, äpple & calvados\nPotatis-rotsaksgratäng\nÖrtmarinerad adven
 tssallad\nDagens nybakta bröd med vispat smör\nDessert:\nBrownie med mandel
 kola & saffranstryffel.\nPris 300:-/ port inkl moms\nTill er som besöker os
 s & hämtar er adventsmiddag bjuder vi på varm glögg & pepparkakor?????
DTSTAMP:20260422T152729Z
DTSTART:20201203T080000Z
DTEND:20201203T170000Z
SEQUENCE:0
TRANSP:OPAQUE
END:VEVENT
END:VCALENDAR