BEGIN:VCALENDAR
VERSION:2.0
PRODID:-//jEvents 2.0 for Joomla//EN
CALSCALE:GREGORIAN
METHOD:PUBLISH
BEGIN:VEVENT
UID:8358fdd7a9516589f51141603bbad404
CATEGORIES:Allmänt
SUMMARY:Wärdshusets fredagspåse
LOCATION:Strandvägen 25 Tavelsjö
DESCRIPTION;ENCODING=QUOTED-PRINTABLE:\n\n\n
CONTACT:070 243 29 40  |  Email: Den här e-postadressen skyddas mot spambots. Du måste tillåta JavaScript för att se den.
				document.getElementById('cloakbadb4b3c023a48179409031fd3287a5d').innerHTML = '';
				var prefix = '&#109;a' + 'i&#108;' + '&#116;o';
				var path = 'hr' + 'ef' + '=';
				var addybadb4b3c023a48179409031fd3287a5d = '&#105;nf&#111;' + '&#64;';
				addybadb4b3c023a48179409031fd3287a5d = addybadb4b3c023a48179409031fd3287a5d + 't&#97;v&#101;lsj&#111;w&#97;rdsh&#117;s' + '&#46;' + 's&#101;';
				var addy_textbadb4b3c023a48179409031fd3287a5d = '&#105;nf&#111;' + '&#64;' + 't&#97;v&#101;lsj&#111;w&#97;rdsh&#117;s' + '&#46;' + 's&#101;';document.getElementById('cloakbadb4b3c023a48179409031fd3287a5d').innerHTML += ''+addy_textbadb4b3c023a48179409031fd3287a5d+'';
		
X-EXTRAINFO:Missa inte veckans fredagspåsar! \nUnna dig en skön fredag och beställ vår 
 påse via mail eller hemsida.info@tavelsjöwärdshus.se\nTavelsjöwärdshus.se
DTSTAMP:20260422T151639Z
DTSTART:20201202T110000Z
DTEND:20201202T160000Z
SEQUENCE:0
TRANSP:OPAQUE
END:VEVENT
END:VCALENDAR