BEGIN:VCALENDAR
VERSION:2.0
PRODID:-//jEvents 2.0 for Joomla//EN
CALSCALE:GREGORIAN
METHOD:PUBLISH
BEGIN:VEVENT
UID:5238b8d6e93e4770a042d9e322168e64
CATEGORIES:Allmänt
SUMMARY:Root på Sundlingska Gården
LOCATION:Sundlingska gården Sand 21
DESCRIPTION;ENCODING=QUOTED-PRINTABLE:\n\n\n
CONTACT:Den här e-postadressen skyddas mot spambots. Du måste tillåta JavaScript för att se den.
				document.getElementById('cloak96e10fca315ab867161cd6c6743fa309').innerHTML = '';
				var prefix = '&#109;a' + 'i&#108;' + '&#116;o';
				var path = 'hr' + 'ef' + '=';
				var addy96e10fca315ab867161cd6c6743fa309 = 'h&#101;ll&#111;' + '&#64;';
				addy96e10fca315ab867161cd6c6743fa309 = addy96e10fca315ab867161cd6c6743fa309 + 'w&#101;&#97;r&#101;r&#111;&#111;t' + '&#46;' + 's&#101;';
				var addy_text96e10fca315ab867161cd6c6743fa309 = 'h&#101;ll&#111;' + '&#64;' + 'w&#101;&#97;r&#101;r&#111;&#111;t' + '&#46;' + 's&#101;';document.getElementById('cloak96e10fca315ab867161cd6c6743fa309').innerHTML += ''+addy_text96e10fca315ab867161cd6c6743fa309+'';
		 | 070-309 1848
X-EXTRAINFO:Temporära öppettider (under corona-restriktioner) fre-sön 9-19 & serverar p
 izza från kl 11.\nRoot hemma: takeaway pizza, surdegsbröd & kaffe, brunch d
 irekt till dörren - Den här e-postadressen skyddas mot spambots. Du måste t
 illåta JavaScript för att se den.
				document.getElementById('cloakc2b8835
 6c6fa7de0a70dd00cd8eff59d').innerHTML = '';
				var prefix = '&#109;a' + 'i
 &#108;' + '&#116;o';
				var path = 'hr' + 'ef' + '=';
				var addyc2b88356
 c6fa7de0a70dd00cd8eff59d = 'h&#101;ll&#111;' + '&#64;';
				addyc2b88356c6f
 a7de0a70dd00cd8eff59d = addyc2b88356c6fa7de0a70dd00cd8eff59d + 'w&#101;&#97
 ;r&#101;r&#111;&#111;t' + '&#46;' + 's&#101;';
				var addy_textc2b88356c6f
 a7de0a70dd00cd8eff59d = 'h&#101;ll&#111;' + '&#64;' + 'w&#101;&#97;r&#101;r
 &#111;&#111;t' + '&#46;' + 's&#101;';document.getElementById('cloakc2b88356
 c6fa7de0a70dd00cd8eff59d').innerHTML += ''+addy_textc2b88356c6fa7de0a70dd00
 cd8eff59d+'';
		 | 070-309 1848
DTSTAMP:20260422T214928Z
DTSTART:20201128T090000Z
DTEND:20201128T190000Z
SEQUENCE:0
TRANSP:OPAQUE
END:VEVENT
END:VCALENDAR