BEGIN:VCALENDAR
VERSION:2.0
PRODID:-//jEvents 2.0 for Joomla//EN
CALSCALE:GREGORIAN
METHOD:PUBLISH
BEGIN:VEVENT
UID:6d259c24e65999ec67473450e58ef6f8
CATEGORIES:Allmänt
SUMMARY:Helgöppet Rödå Antik
LOCATION:Rödåsel 61
DESCRIPTION;ENCODING=QUOTED-PRINTABLE:\n\n\n
CONTACT:Eva  070-3626557
X-EXTRAINFO:Helgöppet på Rödå Antik \nLördag o söndag 11-16\nVälkomna !
DTSTAMP:20260422T144114Z
DTSTART:20201128T110000Z
DTEND:20201128T160000Z
SEQUENCE:0
TRANSP:OPAQUE
END:VEVENT
END:VCALENDAR