BEGIN:VCALENDAR
VERSION:2.0
PRODID:-//jEvents 2.0 for Joomla//EN
CALSCALE:GREGORIAN
METHOD:PUBLISH
BEGIN:VEVENT
UID:aef5ad3a132fd8d5a62954e2412ee51a
CATEGORIES:Allmänt
SUMMARY:Wärdshuset helgöppet
LOCATION:Strandvägen 25 Tavelsjö
DESCRIPTION;ENCODING=QUOTED-PRINTABLE:\n\n\n
CONTACT:070 243 29 40  |  Email: Den här e-postadressen skyddas mot spambots. Du måste tillåta JavaScript för att se den.
				document.getElementById('cloak74a52267a1b95a3f0162bf70151a82e8').innerHTML = '';
				var prefix = '&#109;a' + 'i&#108;' + '&#116;o';
				var path = 'hr' + 'ef' + '=';
				var addy74a52267a1b95a3f0162bf70151a82e8 = '&#105;nf&#111;' + '&#64;';
				addy74a52267a1b95a3f0162bf70151a82e8 = addy74a52267a1b95a3f0162bf70151a82e8 + 't&#97;v&#101;lsj&#111;w&#97;rdsh&#117;s' + '&#46;' + 's&#101;';
				var addy_text74a52267a1b95a3f0162bf70151a82e8 = '&#105;nf&#111;' + '&#64;' + 't&#97;v&#101;lsj&#111;w&#97;rdsh&#117;s' + '&#46;' + 's&#101;';document.getElementById('cloak74a52267a1b95a3f0162bf70151a82e8').innerHTML += ''+addy_text74a52267a1b95a3f0162bf70151a82e8+'';
		
X-EXTRAINFO:I helgen är det första advent och vi är redo med julpyntet. \nNu på söndag 
 bjuder vi tillsammans med Blåeld på varm glögg och pepparkakor utanför oss 
 mellan 12-15.\nBlåeld har öppet mellan 12-15 och vi på Wärdshuset håller öp
 pet mellan 11-18, varmt välkomna! ☕
DTSTAMP:20260422T212845Z
DTSTART:20201128T110000Z
DTEND:20201128T180000Z
SEQUENCE:0
TRANSP:OPAQUE
END:VEVENT
END:VCALENDAR