BEGIN:VCALENDAR
VERSION:2.0
PRODID:-//jEvents 2.0 for Joomla//EN
CALSCALE:GREGORIAN
METHOD:PUBLISH
BEGIN:VEVENT
UID:c388e59dc89df2362df4afc415aa562a
CATEGORIES:Allmänt
SUMMARY:Blomhyllan Handelsträdgård
LOCATION:Tavelsjövägen 14
DESCRIPTION;ENCODING=QUOTED-PRINTABLE:\n\n\n
X-EXTRAINFO:blomhyllan_handelstradgard är i Tavelsjö.\n · \nVälkommen på Söndag, jag ha
 r öppet 12-16
DTSTAMP:20260422T212912Z
DTSTART:20201129T120000Z
DTEND:20201129T160000Z
SEQUENCE:0
TRANSP:OPAQUE
END:VEVENT
END:VCALENDAR