BEGIN:VCALENDAR
VERSION:2.0
PRODID:-//jEvents 2.0 for Joomla//EN
CALSCALE:GREGORIAN
METHOD:PUBLISH
BEGIN:VEVENT
UID:9a0e10a9b929e76e5206b9c57a9209c4
CATEGORIES:Allmänt
SUMMARY:Premiär öppet knform
LOCATION:Näset 213 ( gamla matboa )
DESCRIPTION;ENCODING=QUOTED-PRINTABLE:\n\n\n
CONTACT:Katarina 070-3083896
X-EXTRAINFO:Vi går mot advent ?️\nNu börjar lilla butiken ta form och  ni är välkomna i
 n!\nLördag-Söndag 12-15 är fasta öppettider. \nMåndag-Fredag jobbar jag i A
 teljén som är innanför butiken.\n Titta gärna in! (Oftast mellan 9-16)\nVil
 l du komma själv går det bra att boka in tid 070-3083896 eller 090- 60 000\
 nKeramik, trådslöjd, vintage finns i butiken.\n IGaragedelen håller Bosse t
 ill med loppis\nI butiken 3 st åt gången och Garagedelen 5 st.\nVi håller t
 ill mitt emot Strandvägen, i Gamla Matboa\nPrecis som alla andra butiker fö
 ljer vi rekommendationer\nVarmt Välkomna!\nKatarina och Bosse
DTSTAMP:20260422T212913Z
DTSTART:20201128T120000Z
DTEND:20201128T150000Z
SEQUENCE:0
TRANSP:OPAQUE
END:VEVENT
END:VCALENDAR