BEGIN:VCALENDAR
VERSION:2.0
PRODID:-//jEvents 2.0 for Joomla//EN
CALSCALE:GREGORIAN
METHOD:PUBLISH
BEGIN:VEVENT
UID:4505c9475581aa69297005b1d9b85ab8
CATEGORIES:Allmänt
SUMMARY:Wärdshuset Lunch V 48
LOCATION:Strandvägen 25 Tavelsjö
DESCRIPTION;ENCODING=QUOTED-PRINTABLE:\n\n\n
CONTACT:070 243 29 40  |  Email: Den här e-postadressen skyddas mot spambots. Du måste tillåta JavaScript för att se den.
				document.getElementById('cloak2f847315d74cdf659da60458799dcffb').innerHTML = '';
				var prefix = '&#109;a' + 'i&#108;' + '&#116;o';
				var path = 'hr' + 'ef' + '=';
				var addy2f847315d74cdf659da60458799dcffb = '&#105;nf&#111;' + '&#64;';
				addy2f847315d74cdf659da60458799dcffb = addy2f847315d74cdf659da60458799dcffb + 't&#97;v&#101;lsj&#111;w&#97;rdsh&#117;s' + '&#46;' + 's&#101;';
				var addy_text2f847315d74cdf659da60458799dcffb = '&#105;nf&#111;' + '&#64;' + 't&#97;v&#101;lsj&#111;w&#97;rdsh&#117;s' + '&#46;' + 's&#101;';document.getElementById('cloak2f847315d74cdf659da60458799dcffb').innerHTML += ''+addy_text2f847315d74cdf659da60458799dcffb+'';
		
X-EXTRAINFO:Ärtsoppa med fläsk & pannkaka\nUrbenad kotlett med rostad potatis & skysås\
 nPanerad aubergine med rostad potatis & chilimajonnäs\nInklusive kaffe, sal
 lad, bröd och smör\nVälkomna!
DTSTAMP:20260422T212811Z
DTSTART:20201126T110000Z
DTEND:20201126T180000Z
SEQUENCE:0
TRANSP:OPAQUE
END:VEVENT
END:VCALENDAR