BEGIN:VCALENDAR
VERSION:2.0
PRODID:-//jEvents 2.0 for Joomla//EN
CALSCALE:GREGORIAN
METHOD:PUBLISH
BEGIN:VEVENT
UID:57a100f60fea85ca11879d2cad1f8db3
CATEGORIES:Allmänt
SUMMARY:Wärdshuset Lunch V 48
LOCATION:Strandvägen 25 Tavelsjö
DESCRIPTION;ENCODING=QUOTED-PRINTABLE:\n\n\n
CONTACT:070 243 29 40  |  Email: Den här e-postadressen skyddas mot spambots. Du måste tillåta JavaScript för att se den.
				document.getElementById('cloak4db114fa83e873e6fc17da0d416b1b6b').innerHTML = '';
				var prefix = '&#109;a' + 'i&#108;' + '&#116;o';
				var path = 'hr' + 'ef' + '=';
				var addy4db114fa83e873e6fc17da0d416b1b6b = '&#105;nf&#111;' + '&#64;';
				addy4db114fa83e873e6fc17da0d416b1b6b = addy4db114fa83e873e6fc17da0d416b1b6b + 't&#97;v&#101;lsj&#111;w&#97;rdsh&#117;s' + '&#46;' + 's&#101;';
				var addy_text4db114fa83e873e6fc17da0d416b1b6b = '&#105;nf&#111;' + '&#64;' + 't&#97;v&#101;lsj&#111;w&#97;rdsh&#117;s' + '&#46;' + 's&#101;';document.getElementById('cloak4db114fa83e873e6fc17da0d416b1b6b').innerHTML += ''+addy_text4db114fa83e873e6fc17da0d416b1b6b+'';
		
X-EXTRAINFO:Ärtsoppa med fläsk & pannkaka\nUrbenad kotlett med rostad potatis & skysås\
 nPanerad aubergine med rostad potatis & chilimajonnäs\nInklusive kaffe, sal
 lad, bröd och smör\nVälkomna!
DTSTAMP:20260422T213812Z
DTSTART:20201127T110000Z
DTEND:20201127T180000Z
SEQUENCE:0
TRANSP:OPAQUE
END:VEVENT
END:VCALENDAR