BEGIN:VCALENDAR
VERSION:2.0
PRODID:-//jEvents 2.0 for Joomla//EN
CALSCALE:GREGORIAN
METHOD:PUBLISH
BEGIN:VEVENT
UID:3f3496971f175f1e5b7fb0b4dc7a9897
CATEGORIES:Allmänt
SUMMARY:Wärdshusets fredagspåse
LOCATION:Strandvägen 25 Tavelsjö
DESCRIPTION;ENCODING=QUOTED-PRINTABLE:\n\n\n
CONTACT:070 243 29 40  |  Email: Den här e-postadressen skyddas mot spambots. Du måste tillåta JavaScript för att se den.
				document.getElementById('cloak02e760d573e074124f0e71206a9e58bd').innerHTML = '';
				var prefix = '&#109;a' + 'i&#108;' + '&#116;o';
				var path = 'hr' + 'ef' + '=';
				var addy02e760d573e074124f0e71206a9e58bd = '&#105;nf&#111;' + '&#64;';
				addy02e760d573e074124f0e71206a9e58bd = addy02e760d573e074124f0e71206a9e58bd + 't&#97;v&#101;lsj&#111;w&#97;rdsh&#117;s' + '&#46;' + 's&#101;';
				var addy_text02e760d573e074124f0e71206a9e58bd = '&#105;nf&#111;' + '&#64;' + 't&#97;v&#101;lsj&#111;w&#97;rdsh&#117;s' + '&#46;' + 's&#101;';document.getElementById('cloak02e760d573e074124f0e71206a9e58bd').innerHTML += ''+addy_text02e760d573e074124f0e71206a9e58bd+'';
		
X-EXTRAINFO:Missa inte veckans fredagspåsar! \nVälj mellan Fredagspåsen (Torskrygg) 189
 :- /person eller familjepåsen (Tacogratäng) 269:- / 2 vuxna, 2 barn\nUnna d
 ig en skön fredag och beställ vår påse via mail eller hemsida.\nhttps://www
 .xn--tavelsjwrdshus-dib00a.se/\n\ninfo@tavelsjöwärdshus.se\nTavelsjöwärdshu
 s.se
DTSTAMP:20260422T213940Z
DTSTART:20201126T110000Z
DTEND:20201126T160000Z
SEQUENCE:0
TRANSP:OPAQUE
END:VEVENT
END:VCALENDAR