BEGIN:VCALENDAR
VERSION:2.0
PRODID:-//jEvents 2.0 for Joomla//EN
CALSCALE:GREGORIAN
METHOD:PUBLISH
BEGIN:VEVENT
UID:6916780d2bf72d09d77812cee7f7cb60
CATEGORIES:Allmänt
SUMMARY:Rootytooty-brunch
LOCATION:Sundlingska gården
DESCRIPTION;ENCODING=QUOTED-PRINTABLE:\n\n\n
CONTACT: 070-309 1848  https://bookings.designmynight.com/book
X-EXTRAINFO:Nu kan vår Rootytooty-brunch beställas varje lördag och söndag fram till ju
 l, med möjlighet för hemleverans. Brunchen varierar från helg till helg men
  inkluderar alltid nybakat surdegsbröd, färskmalet kaffe, smoothie, overnig
 ht oats samt annat smått och gott. \n200kr/person vid upphämtning eller 250
 kr/person vid leverans. \nBrunchen förbokas enklast här:\nhttps://bookings.
 designmynight.com/book... \neller hör av dig till oss på 070-3091848 eller 
 Den här e-postadressen skyddas mot spambots. Du måste tillåta JavaScript fö
 r att se den.
				document.getElementById('cloak75a033b1c66a3507fefe6655fd8
 0fcd6').innerHTML = '';
				var prefix = '&#109;a' + 'i&#108;' + '&#116;o';
 
				var path = 'hr' + 'ef' + '=';
				var addy75a033b1c66a3507fefe6655fd80
 fcd6 = 'h&#101;ll&#111;' + '&#64;';
				addy75a033b1c66a3507fefe6655fd80fcd
 6 = addy75a033b1c66a3507fefe6655fd80fcd6 + 'w&#101;&#97;r&#101;r&#111;&#111
 ;t' + '&#46;' + 's&#101;';
				var addy_text75a033b1c66a3507fefe6655fd80fcd
 6 = 'h&#101;ll&#111;' + '&#64;' + 'w&#101;&#97;r&#101;r&#111;&#111;t' + '&#
 46;' + 's&#101;';document.getElementById('cloak75a033b1c66a3507fefe6655fd80
 fcd6').innerHTML += ''+addy_text75a033b1c66a3507fefe6655fd80fcd6+'';
		
DTSTAMP:20260422T212852Z
DTSTART:20201129T090000Z
DTEND:20201129T190000Z
SEQUENCE:0
TRANSP:OPAQUE
END:VEVENT
END:VCALENDAR