BEGIN:VCALENDAR
VERSION:2.0
PRODID:-//jEvents 2.0 for Joomla//EN
CALSCALE:GREGORIAN
METHOD:PUBLISH
BEGIN:VEVENT
UID:b5f8c84d7d8bc410fd0f10e8ae12ce72
CATEGORIES:Allmänt
SUMMARY:Söndagsöppet på skidspåret i Rödåsel
LOCATION:elljusspåret i Rödåsel
DESCRIPTION;ENCODING=QUOTED-PRINTABLE:\n\n\n
CONTACT:Alf Söderlund  070-6300651
X-EXTRAINFO:Spåret är preparerat i äventyrsparken med spårkalle 4-5 km\nVälkomna !
DTSTAMP:20260422T214724Z
DTSTART:20201122T080000Z
DTEND:20201122T230000Z
SEQUENCE:0
TRANSP:OPAQUE
END:VEVENT
END:VCALENDAR