BEGIN:VCALENDAR
VERSION:2.0
PRODID:-//jEvents 2.0 for Joomla//EN
CALSCALE:GREGORIAN
METHOD:PUBLISH
BEGIN:VEVENT
UID:c3130113288edf50484feeb4447eaac5
CATEGORIES:Allmänt
SUMMARY:Åk skidor i Rödåsel
LOCATION:elljusspåret i Rödåsel
DESCRIPTION;ENCODING=QUOTED-PRINTABLE:\n\n\n
CONTACT:Alf Söderlund  070-6300651
X-EXTRAINFO:Spåret är preparerat i äventyrsparken med spårkalle 4-5 km\nVälkomna !
DTSTAMP:20260422T213025Z
DTSTART:20201121T080000Z
DTEND:20201121T230000Z
SEQUENCE:0
TRANSP:OPAQUE
END:VEVENT
END:VCALENDAR