BEGIN:VCALENDAR
VERSION:2.0
PRODID:-//jEvents 2.0 for Joomla//EN
CALSCALE:GREGORIAN
METHOD:PUBLISH
BEGIN:VEVENT
UID:2f158527c7175e6b55f36ebdcabd8f3e
CATEGORIES:Allmänt
SUMMARY:söndagsnytt på Root 
LOCATION:Sundlingska gården
DESCRIPTION;ENCODING=QUOTED-PRINTABLE:\n\n\n
CONTACT: 070-309 1848
X-EXTRAINFO:öppettider (under corona-restriktioner) fre-sön 9-19 \nserverar pizza från 
 kl 11.\nEn del av vårt nya "Root hemma"-utbud är:Söndags brunch!Vi kan leve
 rera direkt hem till din dörr från och med den här helgen. \nBrunch-innehål
 let uppdateras varje vecka och för att boka, kontakta oss på Den här e-post
 adressen skyddas mot spambots. Du måste tillåta JavaScript för att se den.

 				document.getElementById('cloak0161e26e856d7b9ad93ad20248fd6c58').innerH
 TML = '';
				var prefix = '&#109;a' + 'i&#108;' + '&#116;o';
				var path 
 = 'hr' + 'ef' + '=';
				var addy0161e26e856d7b9ad93ad20248fd6c58 = 'h&#101
 ;ll&#111;' + '&#64;';
				addy0161e26e856d7b9ad93ad20248fd6c58 = addy0161e2
 6e856d7b9ad93ad20248fd6c58 + 'w&#101;&#97;r&#101;r&#111;&#111;t' + '&#46;' 
 + 's&#101;';
				var addy_text0161e26e856d7b9ad93ad20248fd6c58 = 'h&#101;ll
 &#111;' + '&#64;' + 'w&#101;&#97;r&#101;r&#111;&#111;t' + '&#46;' + 's&#101
 ;';document.getElementById('cloak0161e26e856d7b9ad93ad20248fd6c58').innerHT
 ML += ''+addy_text0161e26e856d7b9ad93ad20248fd6c58+'';
		 eller ring oss på
  070-309 1848\nVälkomna! 
DTSTAMP:20260422T212846Z
DTSTART:20201122T090000Z
DTEND:20201122T190000Z
SEQUENCE:0
TRANSP:OPAQUE
END:VEVENT
END:VCALENDAR