BEGIN:VCALENDAR
VERSION:2.0
PRODID:-//jEvents 2.0 for Joomla//EN
CALSCALE:GREGORIAN
METHOD:PUBLISH
BEGIN:VEVENT
UID:0ec1e23e820aa8f902620b74d9c46a5b
CATEGORIES:Allmänt
SUMMARY:Root på Sundlingska Gården
LOCATION:Sundlingska gården
DESCRIPTION;ENCODING=QUOTED-PRINTABLE:\n\n\n
CONTACT: 070-309 1848
X-EXTRAINFO:öppettider (under corona-restriktioner) fre-sön 9-19 \nserverar pizza från 
 kl 11.\nEn del av vårt nya "Root hemma"-utbud är brunch att ta med på helge
 r. \nVi kan leverera direkt hem till din dörr från och med den här helgen. 
 \nBrunch-innehållet uppdateras varje vecka och för att boka, kontakta oss p
 å Den här e-postadressen skyddas mot spambots. Du måste tillåta JavaScript 
 för att se den.
				document.getElementById('cloakdbaf2303a39d80b3588f0e9dc
 adee0f5').innerHTML = '';
				var prefix = '&#109;a' + 'i&#108;' + '&#116;o
 ';
				var path = 'hr' + 'ef' + '=';
				var addydbaf2303a39d80b3588f0e9dca
 dee0f5 = 'h&#101;ll&#111;' + '&#64;';
				addydbaf2303a39d80b3588f0e9dcadee
 0f5 = addydbaf2303a39d80b3588f0e9dcadee0f5 + 'w&#101;&#97;r&#101;r&#111;&#1
 11;t' + '&#46;' + 's&#101;';
				var addy_textdbaf2303a39d80b3588f0e9dcadee
 0f5 = 'h&#101;ll&#111;' + '&#64;' + 'w&#101;&#97;r&#101;r&#111;&#111;t' + '
 &#46;' + 's&#101;';document.getElementById('cloakdbaf2303a39d80b3588f0e9dca
 dee0f5').innerHTML += ''+addy_textdbaf2303a39d80b3588f0e9dcadee0f5+'';
		 e
 ller ring oss på 070-309 1848\n
DTSTAMP:20260422T212847Z
DTSTART:20201121T090000Z
DTEND:20201121T190000Z
SEQUENCE:0
TRANSP:OPAQUE
END:VEVENT
END:VCALENDAR