BEGIN:VCALENDAR
VERSION:2.0
PRODID:-//jEvents 2.0 for Joomla//EN
CALSCALE:GREGORIAN
METHOD:PUBLISH
BEGIN:VEVENT
UID:84036d58c7d3f7c57c78940cfb15d5c6
CATEGORIES:Allmänt
SUMMARY:Blåeld söndagsöppet
LOCATION:Strandvägen 25 Tavelsjö
DESCRIPTION;ENCODING=QUOTED-PRINTABLE:\n\n\n
CONTACT:076-775 66 60
X-EXTRAINFO:Välkomna till oss !\nBlåeld har öppet lördag & söndag 12-15 \nMånga nyheter
  packas upp idag.\nVi som jobbar är friska och butiken och utställning är "
 luftig"\n 
DTSTAMP:20260422T213015Z
DTSTART:20201122T120000Z
DTEND:20201122T150000Z
SEQUENCE:0
TRANSP:OPAQUE
END:VEVENT
END:VCALENDAR