BEGIN:VCALENDAR
VERSION:2.0
PRODID:-//jEvents 2.0 for Joomla//EN
CALSCALE:GREGORIAN
METHOD:PUBLISH
BEGIN:VEVENT
UID:4f1ac1c5817ce09b26ddc5374e7fa9f0
CATEGORIES:Allmänt
SUMMARY:Blåeld helgöppet
LOCATION:Strandvägen 25 Tavelsjö
DESCRIPTION;ENCODING=QUOTED-PRINTABLE:\n\n\n
CONTACT:076-775 66 60
X-EXTRAINFO:Välkomna till oss !\nBlåeld har öppet lördag & söndag 12-15 \nMånga nyheter
  packas upp idag.\nVi som jobbar är friska och butiken och utställning är "
 luftig"\n 
DTSTAMP:20260422T212846Z
DTSTART:20201121T120000Z
DTEND:20201121T150000Z
SEQUENCE:0
TRANSP:OPAQUE
END:VEVENT
END:VCALENDAR