BEGIN:VCALENDAR
VERSION:2.0
PRODID:-//jEvents 2.0 for Joomla//EN
CALSCALE:GREGORIAN
METHOD:PUBLISH
BEGIN:VEVENT
UID:2ce7c00c6a5783d13b20b476ac0db39f
CATEGORIES:Allmänt
SUMMARY:Helgöppet Rödå Antik
LOCATION:Rödåsel 61
DESCRIPTION;ENCODING=QUOTED-PRINTABLE:\n\n\n
CONTACT:Eva  070-3626557
X-EXTRAINFO:Helgöppet på Rödå Antik \nLördag o söndag 11-16\nVälkomna !
DTSTAMP:20260422T213824Z
DTSTART:20201122T110000Z
DTEND:20201122T160000Z
SEQUENCE:0
TRANSP:OPAQUE
END:VEVENT
END:VCALENDAR