BEGIN:VCALENDAR
VERSION:2.0
PRODID:-//jEvents 2.0 for Joomla//EN
CALSCALE:GREGORIAN
METHOD:PUBLISH
BEGIN:VEVENT
UID:3b54f94333d80f25e0865836c08aac45
CATEGORIES:Allmänt
SUMMARY:Söndags Á la carte på Wärdshuset
LOCATION:Strandvägen 25 Tavelsjö
DESCRIPTION;ENCODING=QUOTED-PRINTABLE:\n\n \n\n\n \n
CONTACT:070 243 29 40  |  Email: Den här e-postadressen skyddas mot spambots. Du måste tillåta JavaScript för att se den.
				document.getElementById('cloakac4f692e402afae897ad35d3a403d612').innerHTML = '';
				var prefix = '&#109;a' + 'i&#108;' + '&#116;o';
				var path = 'hr' + 'ef' + '=';
				var addyac4f692e402afae897ad35d3a403d612 = '&#105;nf&#111;' + '&#64;';
				addyac4f692e402afae897ad35d3a403d612 = addyac4f692e402afae897ad35d3a403d612 + 't&#97;v&#101;lsj&#111;w&#97;rdsh&#117;s' + '&#46;' + 's&#101;';
				var addy_textac4f692e402afae897ad35d3a403d612 = '&#105;nf&#111;' + '&#64;' + 't&#97;v&#101;lsj&#111;w&#97;rdsh&#117;s' + '&#46;' + 's&#101;';document.getElementById('cloakac4f692e402afae897ad35d3a403d612').innerHTML += ''+addy_textac4f692e402afae897ad35d3a403d612+'';
		
X-EXTRAINFO:Wallenbergare på kalvkött, potatispuré, lingon, ärtor & brynt smör\nWärdshu
 sburgaren \nHögrevsburgare från Hansen, chipotlemajonnäs, picklad rödlök, c
 heddarost & saltgurka\nTorskrygg \nTorskrygg, saltbakad rotselleri, brynt g
 rädde, kapris & morot\nse mer på: https://www.xn--tavelsjwrdshus-dib00a.se/
 meny\nVälkomna
DTSTAMP:20260422T215008Z
DTSTART:20201122T110000Z
DTEND:20201122T180000Z
SEQUENCE:0
TRANSP:OPAQUE
END:VEVENT
END:VCALENDAR